BEGIN:VCALENDAR
VERSION:2.0
PRODID:-//Belize Today - ECPv6.5.1.6//NONSGML v1.0//EN
CALSCALE:GREGORIAN
METHOD:PUBLISH
X-WR-CALNAME:Belize Today
X-ORIGINAL-URL:https://enjoybelize.today
X-WR-CALDESC:Events for Belize Today
REFRESH-INTERVAL;VALUE=DURATION:PT1H
X-Robots-Tag:noindex
X-PUBLISHED-TTL:PT1H
BEGIN:VTIMEZONE
TZID:America/Belize
BEGIN:STANDARD
TZOFFSETFROM:-0600
TZOFFSETTO:-0600
TZNAME:CST
DTSTART:20240101T000000
END:STANDARD
END:VTIMEZONE
BEGIN:VEVENT
DTSTART;TZID=America/Belize:20240115T180000
DTEND;TZID=America/Belize:20240115T210000
DTSTAMP:20260422T201651
CREATED:20240110T231650Z
LAST-MODIFIED:20240110T231650Z
UID:246000-1705341600-1705352400@enjoybelize.today
SUMMARY:J.Cas Live
DESCRIPTION:
URL:https://enjoybelize.today/events/j-cas-live/
LOCATION:Letto’s Restaurant and Bar\, Calle del Sol\, Caye Caulker\, Belize Central America\, ooooo\, Belize
CATEGORIES:Music
ATTACH;FMTTYPE=image/jpeg:https://enjoybelize.today/wp-content/uploads/2024/01/302343011_564252155307562_7707296620094033882_n.jpg
END:VEVENT
END:VCALENDAR